View In:
ArcGIS JavaScript
ArcGIS Online Map Viewer
ArcGIS Earth
ArcMap
View Footprint In:
ArcGIS Online Map Viewer
Service Description: ASI_A
Name: ASI_A
Description:
Single Fused Map Cache: false
Extent:
XMin: -2.00375070672E7
YMin: -7559555.962415673
XMax: 2.0037507842788246E7
YMax: 1.2934163511099998E7
Spatial Reference: 102100
(3857)
Initial Extent:
XMin: -2.00375070672E7
YMin: -7559555.962415673
XMax: 2.0037507842788246E7
YMax: 1.2934163511099998E7
Spatial Reference: 102100
(3857)
Full Extent:
XMin: -2.00375070672E7
YMin: -7559555.962415673
XMax: 2.0037507842788246E7
YMax: 1.2934163511099998E7
Spatial Reference: 102100
(3857)
Pixel Size X: 993.9239809024863
Pixel Size Y: 993.9240250989704
Band Count: 1
Pixel Type: U8
RasterFunction Infos: {"rasterFunctionInfos": [
{
"name": "ASI_A Renderer",
"description": "ASI_D Renderer for ASIS",
"help": ""
},
{
"name": "None",
"description": "Make a Raster or Raster Dataset into a Function Raster Dataset.",
"help": ""
}
]}
Mensuration Capabilities: Basic
Has Histograms: true
Has Colormap: false
Has Multi Dimensions : false
Rendering Rule:
Min Scale: 0
Max Scale: 0
Copyright Text:
Service Data Type: esriImageServiceDataTypeThematic
Min Values: 0
Max Values: 254
Mean Values: 175.7249004270305
Standard Deviation Values: 115.27751989041256
Object ID Field: OBJECTID
Fields:
-
OBJECTID
(
type: esriFieldTypeOID, alias: OBJECTID
)
-
Shape
(
type: esriFieldTypeGeometry, alias: Shape
)
-
Name
(
type: esriFieldTypeString, alias: Name, length: 200
)
-
Category
(
type: esriFieldTypeInteger, alias: Category
, Coded Values:
[0: Unknown]
, [1: Primary]
, [2: Overview]
, ...6 more...
)
-
Variable
(
type: esriFieldTypeString, alias: Variable, length: 255
)
-
Year
(
type: esriFieldTypeSmallInteger, alias: Year
)
-
Season
(
type: esriFieldTypeString, alias: Season, length: 255
, Coded Values:
[Season 1: Season 1]
, [Season 2: Season 2]
)
-
Land_Type
(
type: esriFieldTypeString, alias: Land_Type, length: 255
, Coded Values:
[Cropland: Cropland]
, [Grassland: Grassland]
)
Default Mosaic Method: LockRaster
Allowed Mosaic Methods: LockRaster,ByAttribute
SortField:
SortValue: null
Mosaic Operator: First
Default Compression Quality: 75
Default Resampling Method: Nearest
Max Record Count: 1000
Max Image Height: 4100
Max Image Width: 15000
Max Download Image Count: 20
Max Mosaic Image Count: 1
Allow Raster Function: true
Allow Copy: true
Allow Analysis: true
Allow Compute TiePoints: false
Supports Statistics: true
Supports Advanced Queries: true
Use StandardizedQueries: true
Raster Type Infos:
Name: Raster Dataset
Description: Supports all ArcGIS Raster Datasets
Help:
Has Raster Attribute Table: false
Edit Fields Info: null
Ownership Based AccessControl For Rasters: null
Child Resources:
Info
Histograms
Statistics
Key Properties
Legend
Raster Function Infos
Supported Operations:
Export Image
Query
Identify
Measure
Compute Histograms
Compute Statistics Histograms
Get Samples
Compute Class Statistics
Query Boundary
Compute Pixel Location
Compute Angles
Validate
Project