{
 "currentVersion": 11.0,
 "serviceDescription": "VHI_M",
 "name": "VHI_M",
 "description": "",
 "extent": {
  "xmin": -2.00375070672E7,
  "ymin": -7559555.899556767,
  "xmax": 2.0037507842788246E7,
  "ymax": 1.29341635051E7,
  "spatialReference": {
   "wkid": 102100,
   "latestWkid": 3857
  }
 },
 "initialExtent": {
  "xmin": -2.00375070672E7,
  "ymin": -7559555.899556767,
  "xmax": 2.0037507842788246E7,
  "ymax": 1.29341635051E7,
  "spatialReference": {
   "wkid": 102100,
   "latestWkid": 3857
  }
 },
 "fullExtent": {
  "xmin": -2.00375070672E7,
  "ymin": -7559555.899556767,
  "xmax": 2.0037507842788246E7,
  "ymax": 1.29341635051E7,
  "spatialReference": {
   "wkid": 102100,
   "latestWkid": 3857
  }
 },
 "sortableFields": "Year,Month",
 "bandCount": 1,
 "pixelType": "F32",
 "minValues": [],
 "maxValues": [],
 "meanValues": [],
 "stdvValues": [],
 "hasMultidimensions": false,
 "pixelSizeX": 993.9239809024863,
 "pixelSizeY": 993.9240217593854,
 "datasetFormat": "AMD",
 "uncompressedSize": 3325432320,
 "blockWidth": 2048,
 "blockHeight": 256,
 "compressionType": "None",
 "bandNames": [
  "Band_1"
 ],
 "allowCopy": true,
 "allowAnalysis": true,
 "minPixelSize": 0,
 "maxPixelSize": 0,
 "copyrightText": "",
 "serviceDataType": "esriImageServiceDataTypeGeneric",
 "serviceSourceType": "esriImageServiceSourceTypeMosaicDataset",
 "objectIdField": "OBJECTID",
 "fields": [
  {
   "name": "OBJECTID",
   "type": "esriFieldTypeOID",
   "alias": "OBJECTID",
   "domain": null
  },
  {
   "name": "Shape",
   "type": "esriFieldTypeGeometry",
   "alias": "Shape",
   "domain": null
  },
  {
   "name": "Name",
   "type": "esriFieldTypeString",
   "alias": "Name",
   "domain": null,
   "length": 200
  },
  {
   "name": "Category",
   "type": "esriFieldTypeInteger",
   "alias": "Category",
   "domain": {
    "type": "codedValue",
    "name": "MosaicCatalogItemCategoryDomain",
    "description": "Catalog item categories.",
    "codedValues": [
     {
      "name": "Unknown",
      "code": 0
     },
     {
      "name": "Primary",
      "code": 1
     },
     {
      "name": "Overview",
      "code": 2
     },
     {
      "name": "Unprocessed Overview",
      "code": 3
     },
     {
      "name": "Partial Overview",
      "code": 4
     },
     {
      "name": "Inactive",
      "code": 5
     },
     {
      "name": "Uploaded",
      "code": 253
     },
     {
      "name": "Incomplete",
      "code": 254
     },
     {
      "name": "Custom",
      "code": 255
     }
    ],
    "mergePolicy": "esriMPTDefaultValue",
    "splitPolicy": "esriSPTDefaultValue"
   }
  },
  {
   "name": "Variable",
   "type": "esriFieldTypeString",
   "alias": "Variable",
   "domain": null,
   "length": 255
  },
  {
   "name": "Year",
   "type": "esriFieldTypeSmallInteger",
   "alias": "Year",
   "domain": null
  },
  {
   "name": "Month",
   "type": "esriFieldTypeSmallInteger",
   "alias": "Month Number",
   "domain": {
    "type": "codedValue",
    "name": "Month",
    "description": "",
    "codedValues": [
     {
      "name": "1",
      "code": 1
     },
     {
      "name": "2",
      "code": 2
     },
     {
      "name": "3",
      "code": 3
     },
     {
      "name": "4",
      "code": 4
     },
     {
      "name": "5",
      "code": 5
     },
     {
      "name": "6",
      "code": 6
     },
     {
      "name": "7",
      "code": 7
     },
     {
      "name": "8",
      "code": 8
     },
     {
      "name": "9",
      "code": 9
     },
     {
      "name": "10",
      "code": 10
     },
     {
      "name": "11",
      "code": 11
     },
     {
      "name": "12",
      "code": 12
     }
    ],
    "mergePolicy": "esriMPTDefaultValue",
    "splitPolicy": "esriSPTDefaultValue"
   }
  },
  {
   "name": "Month_Name",
   "type": "esriFieldTypeString",
   "alias": "Month Name",
   "domain": {
    "type": "codedValue",
    "name": "MonthName",
    "description": "",
    "codedValues": [
     {
      "name": "January",
      "code": "January"
     },
     {
      "name": "February",
      "code": "February"
     },
     {
      "name": "March",
      "code": "March"
     },
     {
      "name": "April",
      "code": "April"
     },
     {
      "name": "May",
      "code": "May"
     },
     {
      "name": "June",
      "code": "June"
     },
     {
      "name": "July",
      "code": "July"
     },
     {
      "name": "August",
      "code": "August"
     },
     {
      "name": "September",
      "code": "September"
     },
     {
      "name": "October",
      "code": "October"
     },
     {
      "name": "November",
      "code": "November"
     },
     {
      "name": "December",
      "code": "December"
     }
    ],
    "mergePolicy": "esriMPTDefaultValue",
    "splitPolicy": "esriSPTDefaultValue"
   },
   "length": 255
  }
 ],
 "capabilities": "Catalog,Mensuration,Image,Metadata",
 "defaultMosaicMethod": "Northwest",
 "allowedMosaicMethods": "NorthWest,Center,LockRaster,ByAttribute,Nadir,Viewpoint,Seamline,None",
 "sortField": "",
 "sortValue": null,
 "sortAscending": true,
 "mosaicOperator": "First",
 "maxDownloadSizeLimit": 2048,
 "defaultCompressionQuality": 75,
 "defaultResamplingMethod": "Nearest",
 "maxImageHeight": 4100,
 "maxImageWidth": 15000,
 "maxRecordCount": 1000,
 "maxDownloadImageCount": 20,
 "maxMosaicImageCount": 1,
 "allowRasterFunction": true,
 "rasterFunctionInfos": [
  {
   "name": "VCI_VHI Renderer",
   "description": "VCI_D Renderer for ASIS",
   "help": ""
  },
  {
   "name": "None",
   "description": "Make a Raster or Raster Dataset into a Function Raster Dataset.",
   "help": ""
  }
 ],
 "rasterTypeInfos": [
  {
   "name": "Raster Dataset",
   "description": "Supports all ArcGIS Raster Datasets",
   "help": ""
  }
 ],
 "mensurationCapabilities": "Basic",
 "hasHistograms": false,
 "hasColormap": false,
 "hasRasterAttributeTable": false,
 "minScale": 0,
 "maxScale": 0,
 "exportTilesAllowed": false,
 "supportsStatistics": true,
 "supportsAdvancedQueries": true,
 "editFieldsInfo": null,
 "ownershipBasedAccessControlForRasters": null,
 "allowComputeTiePoints": false,
 "useStandardizedQueries": true,
 "advancedQueryCapabilities": {
  "useStandardizedQueries": true,
  "supportsStatistics": true,
  "supportsOrderBy": true,
  "supportsDistinct": true,
  "supportsPagination": true
 },
 "spatialReference": {
  "wkid": 102100,
  "latestWkid": 3857
 }
}
