{
 "currentVersion": 11.0,
 "serviceDescription": "MVHI_D",
 "name": "MVHI_D",
 "description": "",
 "extent": {
  "xmin": -2.00375070672E7,
  "ymin": -7559555.96841567,
  "xmax": 2.0037507842788246E7,
  "ymax": 1.29341635051E7,
  "spatialReference": {
   "wkid": 102100,
   "latestWkid": 3857
  }
 },
 "initialExtent": {
  "xmin": -2.00375070672E7,
  "ymin": -7559555.96841567,
  "xmax": 2.0037507842788246E7,
  "ymax": 1.29341635051E7,
  "spatialReference": {
   "wkid": 102100,
   "latestWkid": 3857
  }
 },
 "fullExtent": {
  "xmin": -2.00375070672E7,
  "ymin": -7559555.96841567,
  "xmax": 2.0037507842788246E7,
  "ymax": 1.29341635051E7,
  "spatialReference": {
   "wkid": 102100,
   "latestWkid": 3857
  }
 },
 "sortableFields": "Year",
 "bandCount": 1,
 "pixelType": "F32",
 "minValues": [],
 "maxValues": [],
 "meanValues": [],
 "stdvValues": [],
 "hasMultidimensions": false,
 "pixelSizeX": 993.9239809024863,
 "pixelSizeY": 993.9240250989704,
 "datasetFormat": "AMD",
 "uncompressedSize": 3325432320,
 "blockWidth": 2048,
 "blockHeight": 256,
 "compressionType": "None",
 "bandNames": [
  "Band_1"
 ],
 "allowCopy": true,
 "allowAnalysis": true,
 "minPixelSize": 0,
 "maxPixelSize": 0,
 "copyrightText": "",
 "serviceDataType": "esriImageServiceDataTypeGeneric",
 "serviceSourceType": "esriImageServiceSourceTypeMosaicDataset",
 "objectIdField": "OBJECTID",
 "fields": [
  {
   "name": "OBJECTID",
   "type": "esriFieldTypeOID",
   "alias": "OBJECTID",
   "domain": null
  },
  {
   "name": "Shape",
   "type": "esriFieldTypeGeometry",
   "alias": "Shape",
   "domain": null
  },
  {
   "name": "Name",
   "type": "esriFieldTypeString",
   "alias": "Name",
   "domain": null,
   "length": 200
  },
  {
   "name": "Category",
   "type": "esriFieldTypeInteger",
   "alias": "Category",
   "domain": {
    "type": "codedValue",
    "name": "MosaicCatalogItemCategoryDomain",
    "description": "Catalog item categories.",
    "codedValues": [
     {
      "name": "Unknown",
      "code": 0
     },
     {
      "name": "Primary",
      "code": 1
     },
     {
      "name": "Overview",
      "code": 2
     },
     {
      "name": "Unprocessed Overview",
      "code": 3
     },
     {
      "name": "Partial Overview",
      "code": 4
     },
     {
      "name": "Inactive",
      "code": 5
     },
     {
      "name": "Uploaded",
      "code": 253
     },
     {
      "name": "Incomplete",
      "code": 254
     },
     {
      "name": "Custom",
      "code": 255
     }
    ],
    "mergePolicy": "esriMPTDefaultValue",
    "splitPolicy": "esriSPTDefaultValue"
   }
  },
  {
   "name": "Variable",
   "type": "esriFieldTypeString",
   "alias": "Variable",
   "domain": null,
   "length": 255
  },
  {
   "name": "Year",
   "type": "esriFieldTypeSmallInteger",
   "alias": "Year",
   "domain": null
  },
  {
   "name": "Year_Dekad",
   "type": "esriFieldTypeString",
   "alias": "Year and Dekad",
   "domain": null,
   "length": 255
  },
  {
   "name": "Season",
   "type": "esriFieldTypeString",
   "alias": "Season",
   "domain": {
    "type": "codedValue",
    "name": "Season",
    "description": "",
    "codedValues": [
     {
      "name": "Season 1",
      "code": "Season 1"
     },
     {
      "name": "Season 2",
      "code": "Season 2"
     }
    ],
    "mergePolicy": "esriMPTDefaultValue",
    "splitPolicy": "esriSPTDefaultValue"
   },
   "length": 255
  },
  {
   "name": "Land_Type",
   "type": "esriFieldTypeString",
   "alias": "Land Type",
   "domain": {
    "type": "codedValue",
    "name": "LandType",
    "description": "",
    "codedValues": [
     {
      "name": "Cropland",
      "code": "Cropland"
     },
     {
      "name": "Grassland",
      "code": "Grassland"
     }
    ],
    "mergePolicy": "esriMPTDefaultValue",
    "splitPolicy": "esriSPTDefaultValue"
   },
   "length": 255
  },
  {
   "name": "Dekad",
   "type": "esriFieldTypeString",
   "alias": "Dekad",
   "domain": null,
   "length": 255
  }
 ],
 "capabilities": "Catalog,Mensuration,Image,Metadata",
 "defaultMosaicMethod": "Northwest",
 "allowedMosaicMethods": "NorthWest,Center,LockRaster,ByAttribute,Nadir,Viewpoint,Seamline,None",
 "sortField": "",
 "sortValue": null,
 "sortAscending": true,
 "mosaicOperator": "First",
 "maxDownloadSizeLimit": 2048,
 "defaultCompressionQuality": 75,
 "defaultResamplingMethod": "Nearest",
 "maxImageHeight": 4100,
 "maxImageWidth": 15000,
 "maxRecordCount": 1000,
 "maxDownloadImageCount": 20,
 "maxMosaicImageCount": 1,
 "allowRasterFunction": true,
 "rasterFunctionInfos": [
  {
   "name": "MVHI Renderer",
   "description": "MVHI_A Renderer for ASIS",
   "help": ""
  },
  {
   "name": "None",
   "description": "Make a Raster or Raster Dataset into a Function Raster Dataset.",
   "help": ""
  }
 ],
 "rasterTypeInfos": [
  {
   "name": "Raster Dataset",
   "description": "Supports all ArcGIS Raster Datasets",
   "help": ""
  }
 ],
 "mensurationCapabilities": "Basic",
 "hasHistograms": false,
 "hasColormap": false,
 "hasRasterAttributeTable": false,
 "minScale": 0,
 "maxScale": 0,
 "exportTilesAllowed": false,
 "supportsStatistics": true,
 "supportsAdvancedQueries": true,
 "editFieldsInfo": null,
 "ownershipBasedAccessControlForRasters": null,
 "allowComputeTiePoints": false,
 "useStandardizedQueries": true,
 "advancedQueryCapabilities": {
  "useStandardizedQueries": true,
  "supportsStatistics": true,
  "supportsOrderBy": true,
  "supportsDistinct": true,
  "supportsPagination": true
 },
 "spatialReference": {
  "wkid": 102100,
  "latestWkid": 3857
 }
}
